BEGIN:VCALENDAR
VERSION:2.0
PRODID:-//eventon.com NONSGML v1.0//EN
CALSCALE:GREGORIAN
METHOD:PUBLISH
BEGIN:VEVENT
UID:69e6e353dfe79
DTSTAMP:20260421T023915Z
DTSTART:20260409T193000Z
DTEND:20260409T213000Z
LOCATION:
SUMMARY:Brews\,  Bites\,  Beats - Masters Kickoff Party
DESCRIPTION:Enjoy Brews\,  Bites\,  Beats with a Masters Kickoff Party & Li
 ve Music by Pops on Piano\,  with Masters Inspired Fare RSVP to RSVP@farmst
 eadatmedford.com or call (609) 864-6420\nhttps://farmsteadatmedford.com/eve
 nts/brews-bites-beats-masters/
URL:https://farmsteadatmedford.com/events/brews-bites-beats-masters/
END:VEVENT
END:VCALENDAR