BEGIN:VCALENDAR
VERSION:2.0
PRODID:-//eventon.com NONSGML v1.0//EN
CALSCALE:GREGORIAN
METHOD:PUBLISH
BEGIN:VEVENT
UID:69e6c0e02600c
DTSTAMP:20260421T001216Z
DTSTART:20260416T193000Z
DTEND:20260416T213000Z
LOCATION:
SUMMARY:Brews\,  Bites\,  Beats
DESCRIPTION:Enjoy Brews\,  Bites\,  Beats with Vocalist Raffaele Avellino +
  Berry Bliss Bites! RSVP to RSVP@farmsteadatmedford.com or call (609) 864-6
 420\nhttps://farmsteadatmedford.com/events/brews-bites-beats-april16/
URL:https://farmsteadatmedford.com/events/brews-bites-beats-april16/
END:VEVENT
END:VCALENDAR