BEGIN:VCALENDAR
VERSION:2.0
PRODID:-//eventon.com NONSGML v1.0//EN
CALSCALE:GREGORIAN
METHOD:PUBLISH
BEGIN:VEVENT
UID:69e7986544a47
DTSTAMP:20260421T153149Z
DTSTART:20260430T193000Z
DTEND:20260430T213000Z
LOCATION:
SUMMARY:International Jazz Day
DESCRIPTION:Celebrate International Jazz Day\,  with Live Music from Aaron 
 Quarterman\,  while enjoying New Orleans Style Bites! RSVP to RSVP@farmstea
 datmedford.com or call (609) 864-6420\nhttps://farmsteadatmedford.com/event
 s/international-jazz-day-2026/
URL:https://farmsteadatmedford.com/events/international-jazz-day-2026/
END:VEVENT
END:VCALENDAR