BEGIN:VCALENDAR
VERSION:2.0
PRODID:-//eventon.com NONSGML v1.0//EN
CALSCALE:GREGORIAN
METHOD:PUBLISH
BEGIN:VEVENT
UID:69e6e34fa3b9a
DTSTAMP:20260421T023911Z
DTSTART:20260414T193000Z
DTEND:20260414T213000Z
LOCATION:
SUMMARY:Pouring & Pairings: Germany
DESCRIPTION:Join us for another Pouring & Pairings featuring wine from Germ
 any! RSVP to RSVP@farmsteadatmedford.com or call (609) 864-6420\nhttps://fa
 rmsteadatmedford.com/events/pouring-pairings-germany/
URL:https://farmsteadatmedford.com/events/pouring-pairings-germany/
END:VEVENT
END:VCALENDAR