BEGIN:VCALENDAR
VERSION:2.0
PRODID:-//eventon.com NONSGML v1.0//EN
CALSCALE:GREGORIAN
METHOD:PUBLISH
BEGIN:VEVENT
UID:69e6e6280b078
DTSTAMP:20260421T025120Z
DTSTART:20260421T193000Z
DTEND:20260421T213000Z
LOCATION:
SUMMARY:Pouring & Pairings: Spain
DESCRIPTION:Join us for another Pouring & Pairings featuring wine from Spai
 n! RSVP to RSVP@farmsteadatmedford.com or call (609) 864-6420\nhttps://farm
 steadatmedford.com/events/pouring-pairings-spain/
URL:https://farmsteadatmedford.com/events/pouring-pairings-spain/
END:VEVENT
END:VCALENDAR