BEGIN:VCALENDAR
VERSION:2.0
PRODID:-//eventon.com NONSGML v1.0//EN
CALSCALE:GREGORIAN
METHOD:PUBLISH
BEGIN:VEVENT
UID:69e6e751e9655
DTSTAMP:20260421T025617Z
DTSTART:20260409T160000Z
DTEND:20260409T180000Z
LOCATION:
SUMMARY:Pressed Flower Bookmarks Workshop
DESCRIPTION:Preserve the beauty of spring. Use delicate pressed blooms to d
 esign and laminate a unique bookmark that will last a lifetime. RSVP to RSV
 P@farmsteadatmedford.com or call (609) 864-6420\nhttps://farmsteadatmedford
 .com/events/pressed-flower/
URL:https://farmsteadatmedford.com/events/pressed-flower/
END:VEVENT
END:VCALENDAR