BEGIN:VCALENDAR
VERSION:2.0
PRODID:-//eventon.com NONSGML v1.0//EN
CALSCALE:GREGORIAN
METHOD:PUBLISH
BEGIN:VEVENT
UID:69e6ec0da9d7b
DTSTAMP:20260421T031629Z
DTSTART:20260413T150000Z
DTEND:20260413T170000Z
LOCATION:
SUMMARY:Ceramics Workshop
DESCRIPTION:Amanda guides you through the process of shaping and glazing un
 ique ceramic pieces. RSVP to RSVP@farmsteadatmedford.com or call (609) 864-
 6420\nhttps://farmsteadatmedford.com/events/ceramics-workshop-april13/
URL:https://farmsteadatmedford.com/events/ceramics-workshop-april13/
END:VEVENT
END:VCALENDAR