BEGIN:VCALENDAR
VERSION:2.0
PRODID:-//eventon.com NONSGML v1.0//EN
CALSCALE:GREGORIAN
METHOD:PUBLISH
BEGIN:VEVENT
UID:69e6e35271204
DTSTAMP:20260421T023914Z
DTSTART:20260427T150000Z
DTEND:20260427T170000Z
LOCATION:
SUMMARY:Ceramics Workshop
DESCRIPTION:Amanda guides you through the process of shaping and glazing un
 ique ceramic pieces. RSVP to RSVP@farmsteadatmedford.com or call (609) 864-
 6420\nhttps://farmsteadatmedford.com/events/ceramics-workshop-april27/
URL:https://farmsteadatmedford.com/events/ceramics-workshop-april27/
END:VEVENT
END:VCALENDAR