BEGIN:VCALENDAR
VERSION:2.0
PRODID:-//eventon.com NONSGML v1.0//EN
CALSCALE:GREGORIAN
METHOD:PUBLISH
BEGIN:VEVENT
UID:69e6c0eed4af9
DTSTAMP:20260421T001230Z
DTSTART:20260427T181500Z
DTEND:20260427T184500Z
LOCATION:
SUMMARY:BCLS Mobile Library Visit
DESCRIPTION:Browse the latest bestsellers and media right here at The Farms
 tead. RSVP to RSVP@farmsteadatmedford.com or call (609) 864-6420\nhttps://f
 armsteadatmedford.com/events/bcls-mobile-library-visit-april27/
URL:https://farmsteadatmedford.com/events/bcls-mobile-library-visit-april27/
END:VEVENT
END:VCALENDAR