BEGIN:VCALENDAR
VERSION:2.0
PRODID:-//eventon.com NONSGML v1.0//EN
CALSCALE:GREGORIAN
METHOD:PUBLISH
BEGIN:VEVENT
UID:69e6f1d75cead
DTSTAMP:20260421T034111Z
DTSTART:20260413T190000Z
DTEND:20260413T210000Z
LOCATION:
SUMMARY:Crochet Corner
DESCRIPTION:Join Joan for Crochet Corner! Project: Simple Tassel Scarf RSVP
  to RSVP@farmsteadatmedford.com or call (609) 864-6420\nhttps://farmsteadat
 medford.com/events/crochet-corner/
URL:https://farmsteadatmedford.com/events/crochet-corner/
END:VEVENT
END:VCALENDAR