BEGIN:VCALENDAR
VERSION:2.0
PRODID:-//eventon.com NONSGML v1.0//EN
CALSCALE:GREGORIAN
METHOD:PUBLISH
BEGIN:VEVENT
UID:69e6e3566feb3
DTSTAMP:20260421T023918Z
DTSTART:20260427T190000Z
DTEND:20260427T210000Z
LOCATION:
SUMMARY:Crochet Corner
DESCRIPTION:Join Joan for Crochet Corner! Project TBD. RSVP to RSVP@farmste
 adatmedford.com or call (609) 864-6420\nhttps://farmsteadatmedford.com/even
 ts/crochet-corner-april27/
URL:https://farmsteadatmedford.com/events/crochet-corner-april27/
END:VEVENT
END:VCALENDAR