BEGIN:VCALENDAR
VERSION:2.0
PRODID:-//eventon.com NONSGML v1.0//EN
CALSCALE:GREGORIAN
METHOD:PUBLISH
BEGIN:VEVENT
UID:69e6c0d6213d2
DTSTAMP:20260421T001206Z
DTSTART:20260414T180000Z
DTEND:20260414T200000Z
LOCATION:
SUMMARY:National Gardening Day Seeding Swap
DESCRIPTION:Celebrate your green thumb! Join us for a community seedling ex
 change and pick up tips for starting your most successful garden yet. We'll
  be planting our seedlings and seeds into raised beds outside Rain Date: 4/
 17 RSVP to RSVP@farmsteadatmedford.com or call (609) 864-6420\nhttps://farm
 steadatmedford.com/events/national-gardening-day/
URL:https://farmsteadatmedford.com/events/national-gardening-day/
END:VEVENT
END:VCALENDAR