BEGIN:VCALENDAR
VERSION:2.0
PRODID:-//eventon.com NONSGML v1.0//EN
CALSCALE:GREGORIAN
METHOD:PUBLISH
BEGIN:VEVENT
UID:69e6ebfbd658d
DTSTAMP:20260421T031611Z
DTSTART:20260415T143000Z
DTEND:20260415T163000Z
LOCATION:
SUMMARY:Spring Wreath Workshop
DESCRIPTION:Give your door a makeover. We’ll use grapevine bases\,  silk 
 flowers\,  and seasonal ribbons to craft a welcoming spring statement piece
 . RSVP to RSVP@farmsteadatmedford.com or call (609) 864-6420\nhttps://farms
 teadatmedford.com/events/spring-wreath-workshop/
URL:https://farmsteadatmedford.com/events/spring-wreath-workshop/
END:VEVENT
END:VCALENDAR