BEGIN:VCALENDAR
VERSION:2.0
PRODID:-//eventon.com NONSGML v1.0//EN
CALSCALE:GREGORIAN
METHOD:PUBLISH
BEGIN:VEVENT
UID:69e6e34fc1428
DTSTAMP:20260421T023911Z
DTSTART:20260418T170000Z
DTEND:20260418T190000Z
LOCATION:
SUMMARY:Beginner Mahjong Lessons with Karen
DESCRIPTION:Master the tiles! This introductory session covers the basics o
 f the classic game of strategy\,  skill\,  and a little bit of luck. RSVP t
 o RSVP@farmsteadatmedford.com or call (609) 864-6420\nhttps://farmsteadatme
 dford.com/events/beginner-mahjong-lessons-with-karen-april18/
URL:https://farmsteadatmedford.com/events/beginner-mahjong-lessons-with-karen-april18/
END:VEVENT
END:VCALENDAR