BEGIN:VCALENDAR
VERSION:2.0
PRODID:-//eventon.com NONSGML v1.0//EN
CALSCALE:GREGORIAN
METHOD:PUBLISH
BEGIN:VEVENT
UID:69e795fb624b0
DTSTAMP:20260421T152131Z
DTSTART:20260415T170000Z
DTEND:20260415T190000Z
LOCATION:
SUMMARY:Watercolor Guided Painting Workshop
DESCRIPTION:Discover your inner artist. Our instructor will guide you throu
 gh light-filled techniques to capture the soft colors of spring on canvas R
 SVP to RSVP@farmsteadatmedford.com or call (609) 864-6420\nhttps://farmstea
 datmedford.com/events/watercolor-april15/
URL:https://farmsteadatmedford.com/events/watercolor-april15/
END:VEVENT
END:VCALENDAR