BEGIN:VCALENDAR
VERSION:2.0
PRODID:-//eventon.com NONSGML v1.0//EN
CALSCALE:GREGORIAN
METHOD:PUBLISH
BEGIN:VEVENT
UID:69e6e62644089
DTSTAMP:20260421T025118Z
DTSTART:20260415T193000Z
DTEND:20260415T213000Z
LOCATION:
SUMMARY:Pets of the Past Lecture with Jane Peters Estes
DESCRIPTION:A fascinating look at history's furry companions. Explore the u
 nique roles pets have played in human lives throughout the ages. RSVP to RS
 VP@farmsteadatmedford.com or call (609) 864-6420\nhttps://farmsteadatmedfor
 d.com/events/pets-of-the-past/
URL:https://farmsteadatmedford.com/events/pets-of-the-past/
END:VEVENT
END:VCALENDAR