BEGIN:VCALENDAR
VERSION:2.0
PRODID:-//eventon.com NONSGML v1.0//EN
CALSCALE:GREGORIAN
METHOD:PUBLISH
BEGIN:VEVENT
UID:69e6e8b429454
DTSTAMP:20260421T030212Z
DTSTART:20260416T160000Z
DTEND:20260416T180000Z
LOCATION:
SUMMARY:Jewelry Class: Beaded Keychains & Charm Bracelets
DESCRIPTION:Design your own wearable art! Choose from a curated selection o
 f beads and charms to assemble personalized accessories. Class – Beaded k
 eychains\,  charm bracelets RSVP to RSVP@farmsteadatmedford.com or call (60
 9) 864-6420\nhttps://farmsteadatmedford.com/events/beaded-keychains/
URL:https://farmsteadatmedford.com/events/beaded-keychains/
END:VEVENT
END:VCALENDAR