BEGIN:VCALENDAR
VERSION:2.0
PRODID:-//eventon.com NONSGML v1.0//EN
CALSCALE:GREGORIAN
METHOD:PUBLISH
BEGIN:VEVENT
UID:69e77d70000d8
DTSTAMP:20260421T133648Z
DTSTART:20260421T150000Z
DTEND:20260421T170000Z
LOCATION:
SUMMARY:Mosaic Coasters Workshop
DESCRIPTION:Piece together something beautiful. Learn the basics of mosaic 
 tiling and grouting to create a vibrant\,  functional set of stone coasters
 . RSVP to RSVP@farmsteadatmedford.com or call (609) 864-6420\nhttps://farms
 teadatmedford.com/events/mosaic-coasters-workshop/
URL:https://farmsteadatmedford.com/events/mosaic-coasters-workshop/
END:VEVENT
END:VCALENDAR