BEGIN:VCALENDAR
VERSION:2.0
PRODID:-//eventon.com NONSGML v1.0//EN
CALSCALE:GREGORIAN
METHOD:PUBLISH
BEGIN:VEVENT
UID:69e6e78970aad
DTSTAMP:20260421T025713Z
DTSTART:20260422T143000Z
DTEND:20260422T163000Z
LOCATION:
SUMMARY:Earth Day Clay Pot Painting Workshop
DESCRIPTION:Celebrate our planet through art. Decorate eco-friendly terraco
 tta pots with vibrant designs—perfect for your new spring plants! RSVP to
  RSVP@farmsteadatmedford.com or call (609) 864-6420\nhttps://farmsteadatmed
 ford.com/events/earth-day-clay/
URL:https://farmsteadatmedford.com/events/earth-day-clay/
END:VEVENT
END:VCALENDAR