BEGIN:VCALENDAR
VERSION:2.0
PRODID:-//eventon.com NONSGML v1.0//EN
CALSCALE:GREGORIAN
METHOD:PUBLISH
BEGIN:VEVENT
UID:69e6e531907bf
DTSTAMP:20260421T024713Z
DTSTART:20260422T180000Z
DTEND:20260422T200000Z
LOCATION:
SUMMARY:Pasta-Making Class
DESCRIPTION:Enjoy a pasta-making class with Tony Sparacio from Riviera Pizz
 a! RSVP to RSVP@farmsteadatmedford.com or call (609) 864-6420\nhttps://farm
 steadatmedford.com/events/pasta-making-class/
URL:https://farmsteadatmedford.com/events/pasta-making-class/
END:VEVENT
END:VCALENDAR