BEGIN:VCALENDAR
VERSION:2.0
PRODID:-//eventon.com NONSGML v1.0//EN
CALSCALE:GREGORIAN
METHOD:PUBLISH
BEGIN:VEVENT
UID:69e6e35280b5d
DTSTAMP:20260421T023914Z
DTSTART:20260426T193000Z
DTEND:20260426T213000Z
LOCATION:
SUMMARY:Happy Hour & Live Music
DESCRIPTION:Celebrate International Pretzel Day during Happy Hour with Live
  Music by Acoustic Singer & Guitarist Bryan Parr! RSVP to RSVP@farmsteadatm
 edford.com or call (609) 864-6420\nhttps://farmsteadatmedford.com/events/ha
 ppy-hour-april26/
URL:https://farmsteadatmedford.com/events/happy-hour-april26/
END:VEVENT
END:VCALENDAR