BEGIN:VCALENDAR
VERSION:2.0
PRODID:-//eventon.com NONSGML v1.0//EN
CALSCALE:GREGORIAN
METHOD:PUBLISH
BEGIN:VEVENT
UID:69e6ef47b3ef2
DTSTAMP:20260421T033015Z
DTSTART:20260419T150000Z
DTEND:20260419T170000Z
LOCATION:
SUMMARY:Jazz Brunch (Featured Event)
DESCRIPTION:Join us for a Taste of the Farmstead. Enjoy live jazz music and
  a curated brunch menu featuring the freshest local ingredients. It’s the
  perfect way to savor the flavors of the farm while soaking in the smooth s
 ounds of live performance. RSVP before 4/6/2026\nhttps://farmsteadatmedford
 .com/events/jazz-brunch-april2026/
URL:https://farmsteadatmedford.com/events/jazz-brunch-april2026/
END:VEVENT
END:VCALENDAR