BEGIN:VCALENDAR
VERSION:2.0
PRODID:-//eventon.com NONSGML v1.0//EN
CALSCALE:GREGORIAN
METHOD:PUBLISH
BEGIN:VEVENT
UID:69e767dd8521b
DTSTAMP:20260421T120445Z
DTSTART:20260430T193000Z
DTEND:20260430T213000Z
LOCATION:
SUMMARY:Brews\,  Bites\,  Beats
DESCRIPTION:Enjoy Brews\,  Bites\,  Beats Happy Hour at The Farmstead! RSVP
  to RSVP@farmsteadatmedford.com or call (609) 864-6420\nhttps://farmsteadat
 medford.com/events/brews-bites-beats-april30/
URL:https://farmsteadatmedford.com/events/brews-bites-beats-april30/
END:VEVENT
END:VCALENDAR